BEGIN:VCALENDAR
VERSION:2.0
PRODID:-//wp-events-plugin.com//7.2.2.1//EN
TZID:Europe/Rome
X-WR-TIMEZONE:Europe/Rome
BEGIN:VEVENT
UID:0-14760@diocesilucca.it
DTSTART;TZID=Europe/Rome:20211024T093000
DTEND;TZID=Europe/Rome:20211024T103000
DTSTAMP:20200721T194001Z
URL:https://www.diocesilucca.it/sistemamesse/messa-ore-930-8-2021-10-24/
SUMMARY:Messa ore 9:30
DESCRIPTION:
LOCATION:Chiesa parrocchiale di Casoli\, Via della Chiesa\, 1\, Casoli (Cam
 aiore)\, 55041\, Italia
GEO:43.960925;10.325442
X-APPLE-STRUCTURED-LOCATION;VALUE=URI;X-ADDRESS=Via della Chiesa\, 1\, Caso
 li (Camaiore)\, 55041\, Italia;X-APPLE-RADIUS=100;X-TITLE=Chiesa parrocchi
 ale di Casoli:geo:43.960925,10.325442
END:VEVENT
BEGIN:VTIMEZONE
TZID:Europe/Rome
X-LIC-LOCATION:Europe/Rome
BEGIN:DAYLIGHT
DTSTART:20210328T030000
TZOFFSETFROM:+0100
TZOFFSETTO:+0200
TZNAME:CEST
END:DAYLIGHT
END:VTIMEZONE
END:VCALENDAR