BEGIN:VCALENDAR
VERSION:2.0
PRODID:-//wp-events-plugin.com//7.2.2.1//EN
TZID:Europe/Rome
X-WR-TIMEZONE:Europe/Rome
BEGIN:VEVENT
UID:0-59658@diocesilucca.it
DTSTART;TZID=Europe/Rome:20220106T080000
DTEND;TZID=Europe/Rome:20220106T090000
DTSTAMP:20200721T192513Z
URL:https://www.diocesilucca.it/sistemamesse/messa-ore-800-6-2022-01-06/
SUMMARY:Messa ore 8:00
DESCRIPTION:
LOCATION:Duomo di Castelnuovo di Garfagnana\, piazza duomo 7\, castelnuovo 
 di garfagnana\, 55032\, Italia
GEO:44.109606;10.412549
X-APPLE-STRUCTURED-LOCATION;VALUE=URI;X-ADDRESS=piazza duomo 7\, castelnuov
 o di garfagnana\, 55032\, Italia;X-APPLE-RADIUS=100;X-TITLE=Duomo di Caste
 lnuovo di Garfagnana:geo:44.109606,10.412549
END:VEVENT
BEGIN:VTIMEZONE
TZID:Europe/Rome
X-LIC-LOCATION:Europe/Rome
BEGIN:STANDARD
DTSTART:20211031T020000
TZOFFSETFROM:+0200
TZOFFSETTO:+0100
TZNAME:CET
END:STANDARD
END:VTIMEZONE
END:VCALENDAR