BEGIN:VCALENDAR
VERSION:2.0
PRODID:-//wp-events-plugin.com//7.2.2.1//EN
TZID:Europe/Rome
X-WR-TIMEZONE:Europe/Rome
BEGIN:VEVENT
UID:0-44279@diocesilucca.it
DTSTART;TZID=Europe/Rome:20220710T110000
DTEND;TZID=Europe/Rome:20220710T120000
DTSTAMP:20211204T184636Z
URL:https://www.diocesilucca.it/sistemamesse/messa-ore-1100-67-2022-07-10/
SUMMARY:Messa ore 11:00
DESCRIPTION:
LOCATION:Chiesa parrocchiale di Coreglia Antelminelli\, via antelminelli 33
 \, coreglia antelminelli\, Lucca\, 55025\, Italia
GEO:44.064597;10.524827
X-APPLE-STRUCTURED-LOCATION;VALUE=URI;X-ADDRESS=via antelminelli 33\, coreg
 lia antelminelli\, Lucca\, 55025\, Italia;X-APPLE-RADIUS=100;X-TITLE=Chies
 a parrocchiale di Coreglia Antelminelli:geo:44.064597,10.524827
END:VEVENT
BEGIN:VTIMEZONE
TZID:Europe/Rome
X-LIC-LOCATION:Europe/Rome
BEGIN:DAYLIGHT
DTSTART:20220327T030000
TZOFFSETFROM:+0100
TZOFFSETTO:+0200
TZNAME:CEST
END:DAYLIGHT
END:VTIMEZONE
END:VCALENDAR